BEGIN:VCALENDAR
VERSION:2.0
PRODID:-//ChamberMaster//Event Calendar 2.0//EN
METHOD:PUBLISH
X-PUBLISHED-TTL:P3D
REFRESH-INTERVAL:P3D
CALSCALE:GREGORIAN
BEGIN:VEVENT
DTSTART:20260602T230000Z
DTEND:20260603T003000Z
X-MICROSOFT-CDO-ALLDAYEVENT:FALSE
SUMMARY:Literary in the Lounge - Meg Mitchell Moore with "Down with the Shipmans"
DESCRIPTION:On Tuesday\, June 2 at 7pm\, author Meg Mitchell Moore visits The Music Hall Lounge with her new novel\, DOWN WITH THE SHIPMANS. This summery drama is set in New Hampshire towns\, Portsmouth and Rye\, and follows three sisters who return to their childhood home\, each with their own secret.\n\nThis 7pm event features a moderated conversation\, and is followed by an audience Q&A and a post-show meet-and-greet. It will be held at The Music Hall Lounge at 131 Congress St.\, Portsmouth\, New Hampshire.
X-ALT-DESC;FMTTYPE=text/html:<p><span style="background-color:transparent\; color:#000000\; font-family:judson\,serif\; font-size:11pt">On Tuesday\, June 2 at 7pm\, author Meg Mitchell Moore visits The Music Hall Lounge</span><em> </em><span style="background-color:transparent\; color:#000000\; font-family:judson\,serif\; font-size:11pt">with her new novel\, DOWN WITH THE SHIPMANS</span><span style="background-color:transparent\; color:#000000\; font-family:judson\,serif\; font-size:10pt">. </span><span style="background-color:transparent\; color:#000000\; font-family:judson\,serif\; font-size:11pt">This summery drama is set in New Hampshire towns\, Portsmouth and Rye\, and follows three sisters who return to their childhood home\, each with their own secret.</span></p>\n\n<p><span style="background-color:transparent\; color:#000000\; font-family:judson\,serif\; font-size:11pt">This 7pm event</span><em> </em><span style="background-color:transparent\; color:#000000\; font-family:judson\,serif\; font-size:11pt">features a moderated conversation\, and is followed by an audience Q&amp\;A and</span><em> </em><span style="background-color:transparent\; color:#000000\; font-family:judson\,serif\; font-size:11pt">a post-show meet-and-greet. It will be held at The Music Hall Lounge at 131 Congress St.\, Portsmouth\, New Hampshire.</span></p>\n
LOCATION:The Music Hall Lounge 131 Congress Street Portsmouth\, NH
UID:e.1659.91674
SEQUENCE:3
DTSTAMP:20260425T205854Z
URL:https://business.goportsmouthnh.com/events/details/literary-in-the-lounge-meg-mitchell-moore-with-down-with-the-shipmans-91674
END:VEVENT

END:VCALENDAR
